BEGIN:VCALENDAR
VERSION:2.0
PRODID:-//Pfarreiengemeinschaft- Pfarrei St. Nikolaus Bad Abbach//NONSGML kigkonsult.se iCalcreator 2.41.92//
CALSCALE:GREGORIAN
METHOD:PUBLISH
UID:62343731-3838-4364-a138-333138393366
X-WR-CALNAME:iCagenda
X-WR-CALDESC:Event Management Extension for Joomla!
X-WR-RELCALID:3E26604A-50F4-4449-8B3E-E4F4932D05B5
X-WR-TIMEZONE:UTC
BEGIN:VTIMEZONE
TZID:UTC
END:VTIMEZONE
BEGIN:VEVENT
UID:38646133-6630-4834-a630-386636363939
DTSTAMP:20260422T082301Z
CATEGORIES:Allgemein
CLASS:PUBLIC
DESCRIPTION:
DTSTART:20260509T110000Z
DTEND:20260509T110000Z
GEO:00;0
LOCATION:
ORGANIZER:
SEQUENCE:1
SUMMARY:MINI-Zeit
TRANSP:OPAQUE
URL:https://www.pfarrei-bad-abbach.de/terminuebersicht/208-mini-zeit-12/202
 6-05-09-11-00
END:VEVENT
END:VCALENDAR
