BEGIN:VCALENDAR
VERSION:2.0
PRODID:-//Pfarreiengemeinschaft- Pfarrei St. Nikolaus Bad Abbach//NONSGML kigkonsult.se iCalcreator 2.41.92//
CALSCALE:GREGORIAN
METHOD:PUBLISH
UID:62333538-6334-4234-b062-356461333466
X-WR-CALNAME:iCagenda
X-WR-CALDESC:Event Management Extension for Joomla!
X-WR-RELCALID:3E26604A-50F4-4449-8B3E-E4F4932D05B5
X-WR-TIMEZONE:UTC
BEGIN:VTIMEZONE
TZID:UTC
END:VTIMEZONE
BEGIN:VEVENT
UID:65653066-3161-4637-a362-656632623361
DTSTAMP:20260420T132838Z
CATEGORIES:Gottesdienste
CLASS:PUBLIC
DESCRIPTION:
DTSTART:20260426T180000Z
DTEND:20260426T180000Z
GEO:00;0
LOCATION:Evangelische Kreuzkirche
ORGANIZER:
SEQUENCE:1
SUMMARY:Ökumenischer Gottesdienst
TRANSP:OPAQUE
URL:https://www.pfarrei-bad-abbach.de/terminuebersicht/193-oekumenischer-go
 ttesdienst-3/2026-04-26-18-00
END:VEVENT
END:VCALENDAR
