BEGIN:VCALENDAR
VERSION:2.0
PRODID:-//Pfarreiengemeinschaft- Pfarrei St. Nikolaus Bad Abbach//NONSGML kigkonsult.se iCalcreator 2.41.92//
CALSCALE:GREGORIAN
METHOD:PUBLISH
UID:63623432-3134-4437-a666-663761393039
X-WR-CALNAME:iCagenda
X-WR-CALDESC:Event Management Extension for Joomla!
X-WR-RELCALID:3E26604A-50F4-4449-8B3E-E4F4932D05B5
X-WR-TIMEZONE:UTC
BEGIN:VTIMEZONE
TZID:UTC
END:VTIMEZONE
BEGIN:VEVENT
UID:62356130-3735-4330-a534-373063383365
DTSTAMP:20260422T104937Z
CATEGORIES:Gottesdienste
CLASS:PUBLIC
DESCRIPTION:
DTSTART:20260522T100000Z
DTEND:20260522T113000Z
GEO:00;0
LOCATION:
ORGANIZER:
SEQUENCE:1
SUMMARY:Feier der Firmung
TRANSP:OPAQUE
URL:https://www.pfarrei-bad-abbach.de/terminuebersicht/187-firmgottesdienst
END:VEVENT
END:VCALENDAR
