BEGIN:VCALENDAR
VERSION:2.0
PRODID:-//Pfarreiengemeinschaft- Pfarrei St. Nikolaus Bad Abbach//NONSGML kigkonsult.se iCalcreator 2.41.92//
CALSCALE:GREGORIAN
METHOD:PUBLISH
UID:62623339-3435-4661-b436-663366316139
X-WR-CALNAME:iCagenda
X-WR-CALDESC:Event Management Extension for Joomla!
X-WR-RELCALID:3E26604A-50F4-4449-8B3E-E4F4932D05B5
X-WR-TIMEZONE:UTC
BEGIN:VTIMEZONE
TZID:UTC
END:VTIMEZONE
BEGIN:VEVENT
UID:31613739-3331-4439-a336-616663313562
DTSTAMP:20260422T082338Z
CATEGORIES:Gottesdienste
CLASS:PUBLIC
DESCRIPTION:
DTSTART:20260426T170000Z
DTEND:20260426T170000Z
GEO:00;0
LOCATION:Kirche St. Nikolaus
ORGANIZER:
SEQUENCE:1
SUMMARY:Dankeandacht zur Erstkommunion
TRANSP:OPAQUE
URL:https://www.pfarrei-bad-abbach.de/terminuebersicht/175-dankeandacht-zur
 -erstkommunion/2026-04-26-17-00
END:VEVENT
END:VCALENDAR
