BEGIN:VCALENDAR
VERSION:2.0
PRODID:-//Pfarreiengemeinschaft- Pfarrei St. Nikolaus Bad Abbach//NONSGML kigkonsult.se iCalcreator 2.41.92//
CALSCALE:GREGORIAN
METHOD:PUBLISH
UID:31336231-6161-4230-b834-383666626163
X-WR-CALNAME:iCagenda
X-WR-CALDESC:Event Management Extension for Joomla!
X-WR-RELCALID:3E26604A-50F4-4449-8B3E-E4F4932D05B5
X-WR-TIMEZONE:UTC
BEGIN:VTIMEZONE
TZID:UTC
END:VTIMEZONE
BEGIN:VEVENT
UID:33313962-6338-4434-b330-393266633431
DTSTAMP:20260422T082334Z
CATEGORIES:Gottesdienste
CLASS:PUBLIC
DESCRIPTION:
DTSTART:20260419T090000Z
DTEND:20260419T090000Z
GEO:00;0
LOCATION:
ORGANIZER:
SEQUENCE:1
SUMMARY:Erstkommunion in Oberndorf
TRANSP:OPAQUE
URL:https://www.pfarrei-bad-abbach.de/component/icagenda/177-erstkommunion-
 in-oberndorf/2026-04-19-09-00
END:VEVENT
END:VCALENDAR
