BEGIN:VCALENDAR
VERSION:2.0
PRODID:-//Pfarreiengemeinschaft- Pfarrei St. Nikolaus Bad Abbach//NONSGML kigkonsult.se iCalcreator 2.41.92//
CALSCALE:GREGORIAN
METHOD:PUBLISH
UID:64346235-3463-4664-b766-393233356330
X-WR-CALNAME:iCagenda
X-WR-CALDESC:Event Management Extension for Joomla!
X-WR-RELCALID:3E26604A-50F4-4449-8B3E-E4F4932D05B5
X-WR-TIMEZONE:UTC
BEGIN:VTIMEZONE
TZID:UTC
END:VTIMEZONE
BEGIN:VEVENT
UID:34663633-3731-4965-b966-396564303962
DTSTAMP:20260422T082116Z
CATEGORIES:Gottesdienste
CLASS:PUBLIC
DESCRIPTION:
DTSTART:20260419T170000Z
DTEND:20260419T170000Z
GEO:00;0
LOCATION:Kirche St. Nikolaus
ORGANIZER:
SEQUENCE:1
SUMMARY:Dankeandacht zur Erstkommunion
TRANSP:OPAQUE
URL:https://www.pfarrei-bad-abbach.de/component/icagenda/175-dankeandacht-z
 ur-erstkommunion/2026-04-19-17-00
END:VEVENT
END:VCALENDAR
