BEGIN:VCALENDAR
VERSION:2.0
PRODID:-//Pfarreiengemeinschaft- Pfarrei St. Nikolaus Bad Abbach//NONSGML kigkonsult.se iCalcreator 2.41.92//
CALSCALE:GREGORIAN
METHOD:PUBLISH
UID:35346564-6165-4430-b161-326334333832
X-WR-CALNAME:iCagenda
X-WR-CALDESC:Event Management Extension for Joomla!
X-WR-RELCALID:3E26604A-50F4-4449-8B3E-E4F4932D05B5
X-WR-TIMEZONE:UTC
BEGIN:VTIMEZONE
TZID:UTC
END:VTIMEZONE
BEGIN:VEVENT
UID:32386432-3332-4130-b538-643334656236
DTSTAMP:20260422T082725Z
CATEGORIES:Gottesdienste
CLASS:PUBLIC
DESCRIPTION:
DTSTART:20260419T103000Z
DTEND:20260419T103000Z
GEO:00;0
LOCATION:Kirche Hl. Familie
ORGANIZER:
SEQUENCE:1
SUMMARY:Erstkommunion für die Klassen 3a\,3d\,3e
TRANSP:OPAQUE
URL:https://www.pfarrei-bad-abbach.de/component/icagenda/174-erstkommunion-
 fuer-die-klassen-3a-d-e/2026-04-19-10-30
END:VEVENT
END:VCALENDAR
